BEGIN:VCALENDAR
VERSION:2.0
PRODID:icalendar-ruby
CALSCALE:GREGORIAN
METHOD:PUBLISH
BEGIN:VEVENT
DTSTAMP:20260422T022110Z
UID:15-599131@leitchfieldcrossingbaptistchurch.com
DTSTART:20260930T230000Z
DTEND:20261001T000000Z
CLASS:PUBLIC
CREATED:20260421T202346
DESCRIPTION:
LAST-MODIFIED:20260421T202346
LOCATION:
SUMMARY:Wednesday Worship
URL;VALUE=URI:https://www.leitchfieldcrossingbaptistchurch.com/events/wedne
 sday-worship/2026-09-30
ATTACH;FILENAME=IMG_5635.jpg;FMTTYPE=image/jpeg:https://dq5pwpg1q8ru0.cloud
 front.net/2025/04/21/18/22/06/04ca21f2-2686-4d29-ad62-4492fe1368b5/IMG_563
 5.jpg
END:VEVENT
END:VCALENDAR
