BEGIN:VCALENDAR
VERSION:2.0
PRODID:icalendar-ruby
CALSCALE:GREGORIAN
METHOD:PUBLISH
BEGIN:VEVENT
DTSTAMP:20260424T135815Z
UID:5-605477@leitchfieldcrossingbaptistchurch.com
DTSTART:20261101T163000Z
DTEND:20261101T173000Z
CLASS:PUBLIC
CREATED:20260424T073205
DESCRIPTION:Sunday Worship
LAST-MODIFIED:20260424T073205
LOCATION:
SUMMARY:Sunday Worship
URL;VALUE=URI:https://www.leitchfieldcrossingbaptistchurch.com/events/sunda
 y-worship/2026-11-01
END:VEVENT
END:VCALENDAR
