BEGIN:VCALENDAR
VERSION:2.0
PRODID:icalendar-ruby
CALSCALE:GREGORIAN
METHOD:PUBLISH
BEGIN:VEVENT
DTSTAMP:20260422T065830Z
UID:5-598885@leitchfieldcrossingbaptistchurch.com
DTSTART:20260927T153000Z
DTEND:20260927T163000Z
CLASS:PUBLIC
CREATED:20260421T202345
DESCRIPTION:Sunday Worship
LAST-MODIFIED:20260421T202345
LOCATION:
SUMMARY:Sunday Worship
URL;VALUE=URI:https://www.leitchfieldcrossingbaptistchurch.com/events/sunda
 y-worship/2026-09-27
END:VEVENT
END:VCALENDAR
