BEGIN:VCALENDAR
VERSION:2.0
PRODID:icalendar-ruby
CALSCALE:GREGORIAN
METHOD:PUBLISH
BEGIN:VEVENT
DTSTAMP:20260422T005416Z
UID:5-598375@leitchfieldcrossingbaptistchurch.com
DTSTART:20260830T153000Z
DTEND:20260830T163000Z
CLASS:PUBLIC
CREATED:20260421T174503
DESCRIPTION:Sunday Worship
LAST-MODIFIED:20260421T174503
LOCATION:
SUMMARY:Sunday Worship
URL;VALUE=URI:https://www.leitchfieldcrossingbaptistchurch.com/events/sunda
 y-worship/2026-08-30
END:VEVENT
END:VCALENDAR
