BEGIN:VCALENDAR
VERSION:2.0
PRODID:icalendar-ruby
CALSCALE:GREGORIAN
METHOD:PUBLISH
BEGIN:VEVENT
DTSTAMP:20260421T202948Z
UID:5-597866@leitchfieldcrossingbaptistchurch.com
DTSTART:20260809T153000Z
DTEND:20260809T163000Z
CLASS:PUBLIC
CREATED:20260421T150648
DESCRIPTION:Sunday Worship
LAST-MODIFIED:20260421T150648
LOCATION:
SUMMARY:Sunday Worship
URL;VALUE=URI:https://www.leitchfieldcrossingbaptistchurch.com/events/sunda
 y-worship/2026-08-09
END:VEVENT
END:VCALENDAR
