BEGIN:VCALENDAR
VERSION:2.0
PRODID:icalendar-ruby
CALSCALE:GREGORIAN
METHOD:PUBLISH
BEGIN:VEVENT
DTSTAMP:20260424T001434Z
UID:14-604622@leitchfieldcrossingbaptistchurch.com
DTSTART:20260927T230000Z
DTEND:20260928T000000Z
CLASS:PUBLIC
CREATED:20260423T190928
DESCRIPTION:
LAST-MODIFIED:20260423T190928
LOCATION:
SUMMARY:Sunday Evening Worship
URL;VALUE=URI:https://www.leitchfieldcrossingbaptistchurch.com/events/sunda
 y-evening-worship--14/2026-09-27
ATTACH;FILENAME=IMG_5635.jpg;FMTTYPE=image/jpeg:https://dq5pwpg1q8ru0.cloud
 front.net/2025/04/21/18/23/28/cf6d6ab3-5fd7-4643-9205-c2e07f95e819/IMG_563
 5.jpg
END:VEVENT
END:VCALENDAR
